BEGIN:VCALENDAR
VERSION:2.0
PRODID:-//Troops 390/7390 - ECPv6.15.20//NONSGML v1.0//EN
CALSCALE:GREGORIAN
METHOD:PUBLISH
X-ORIGINAL-URL:https://www.bsatroop390.org
X-WR-CALDESC:Events for Troops 390/7390
REFRESH-INTERVAL;VALUE=DURATION:PT1H
X-Robots-Tag:noindex
X-PUBLISHED-TTL:PT1H
BEGIN:VTIMEZONE
TZID:America/Indiana/Indianapolis
BEGIN:DAYLIGHT
TZOFFSETFROM:-0500
TZOFFSETTO:-0400
TZNAME:EDT
DTSTART:20240310T070000
END:DAYLIGHT
BEGIN:STANDARD
TZOFFSETFROM:-0400
TZOFFSETTO:-0500
TZNAME:EST
DTSTART:20241103T060000
END:STANDARD
BEGIN:DAYLIGHT
TZOFFSETFROM:-0500
TZOFFSETTO:-0400
TZNAME:EDT
DTSTART:20250309T070000
END:DAYLIGHT
BEGIN:STANDARD
TZOFFSETFROM:-0400
TZOFFSETTO:-0500
TZNAME:EST
DTSTART:20251102T060000
END:STANDARD
BEGIN:DAYLIGHT
TZOFFSETFROM:-0500
TZOFFSETTO:-0400
TZNAME:EDT
DTSTART:20260308T070000
END:DAYLIGHT
BEGIN:STANDARD
TZOFFSETFROM:-0400
TZOFFSETTO:-0500
TZNAME:EST
DTSTART:20261101T060000
END:STANDARD
END:VTIMEZONE
BEGIN:VEVENT
DTSTART;TZID=America/Indiana/Indianapolis:20251025T080000
DTEND;TZID=America/Indiana/Indianapolis:20251025T170000
DTSTAMP:20260420T060409
CREATED:20250712T155158Z
LAST-MODIFIED:20250914T204901Z
UID:6107-1761379200-1761411600@www.bsatroop390.org
SUMMARY:Merit Badge College
DESCRIPTION:Join the Great Trail Council at our innaugural Merit Badge University ~ Manatoc Merit Badge College (MMBC) \nScouts BSA members can attend and participate in two sessions (morning and afternoon). Scouts DO NOT need to participate in both sessions. \nEach Scout will need to bring a bagged lunch\, as lunch will not be provided. \nClass Session 1: 8:10am through 12 pm \nLunch Session: 12:10 am through 1:00 pm (On your own) \nClass Session 2: 1:10 pm through 5:00 pm \nClassroom locations will be provided in September\, as well as information on parking/ drop-offs. \nConfirmed Merit Badges Being Offered\nAmerican Business (2019) ~ Bugling (2020)~ Citizenship in Society (2025) ~ Public Speaking (2003) ~ Railroading (2022) ~ Veterinary Medicine (2006) ~ Cylcling (2025) ~ Safety (2024 version) ~ Emergency Preparedness (2025 version) ~ Exploration (2017 version) ~ Radio (2017 version) \nThere are still several Merit Badges we are waiting for confirmation. Merit Badges will be added once confirmed up until October 1st\, 2025
URL:https://www.bsatroop390.org/event/merit-badge-college/
LOCATION:Camp Manatoc
CATEGORIES:Merit Badge
END:VEVENT
END:VCALENDAR