BEGIN:VCALENDAR
VERSION:2.0
PRODID:-//Troops 390/7390 - ECPv6.15.20//NONSGML v1.0//EN
CALSCALE:GREGORIAN
METHOD:PUBLISH
X-WR-CALNAME:Troops 390/7390
X-ORIGINAL-URL:https://www.bsatroop390.org
X-WR-CALDESC:Events for Troops 390/7390
REFRESH-INTERVAL;VALUE=DURATION:PT1H
X-Robots-Tag:noindex
X-PUBLISHED-TTL:PT1H
BEGIN:VTIMEZONE
TZID:America/Indiana/Indianapolis
BEGIN:DAYLIGHT
TZOFFSETFROM:-0500
TZOFFSETTO:-0400
TZNAME:EDT
DTSTART:20250309T070000
END:DAYLIGHT
BEGIN:STANDARD
TZOFFSETFROM:-0400
TZOFFSETTO:-0500
TZNAME:EST
DTSTART:20251102T060000
END:STANDARD
BEGIN:DAYLIGHT
TZOFFSETFROM:-0500
TZOFFSETTO:-0400
TZNAME:EDT
DTSTART:20260308T070000
END:DAYLIGHT
BEGIN:STANDARD
TZOFFSETFROM:-0400
TZOFFSETTO:-0500
TZNAME:EST
DTSTART:20261101T060000
END:STANDARD
BEGIN:DAYLIGHT
TZOFFSETFROM:-0500
TZOFFSETTO:-0400
TZNAME:EDT
DTSTART:20270314T070000
END:DAYLIGHT
BEGIN:STANDARD
TZOFFSETFROM:-0400
TZOFFSETTO:-0500
TZNAME:EST
DTSTART:20271107T060000
END:STANDARD
END:VTIMEZONE
BEGIN:VEVENT
DTSTART;TZID=America/Indiana/Indianapolis:20260426T140000
DTEND;TZID=America/Indiana/Indianapolis:20260426T180000
DTSTAMP:20260419T092901
CREATED:20260415T193933Z
LAST-MODIFIED:20260415T193933Z
UID:6724-1777212000-1777226400@www.bsatroop390.org
SUMMARY:Youth Leadership Training
DESCRIPTION:All newly elected youth leaders are expected to attend.
URL:https://www.bsatroop390.org/event/youth-leadership-training-2/
LOCATION:Faith Lutheran Church\, 2726 W Market St\, Akron\, OH\, 44333\, United States
CATEGORIES:ISLT
END:VEVENT
END:VCALENDAR