BEGIN:VCALENDAR
VERSION:2.0
PRODID:-//Troops 390/7390 - ECPv6.15.20//NONSGML v1.0//EN
CALSCALE:GREGORIAN
METHOD:PUBLISH
X-WR-CALNAME:Troops 390/7390
X-ORIGINAL-URL:https://www.bsatroop390.org
X-WR-CALDESC:Events for Troops 390/7390
REFRESH-INTERVAL;VALUE=DURATION:PT1H
X-Robots-Tag:noindex
X-PUBLISHED-TTL:PT1H
BEGIN:VTIMEZONE
TZID:America/Indiana/Indianapolis
BEGIN:DAYLIGHT
TZOFFSETFROM:-0500
TZOFFSETTO:-0400
TZNAME:EDT
DTSTART:20220313T070000
END:DAYLIGHT
BEGIN:STANDARD
TZOFFSETFROM:-0400
TZOFFSETTO:-0500
TZNAME:EST
DTSTART:20221106T060000
END:STANDARD
BEGIN:DAYLIGHT
TZOFFSETFROM:-0500
TZOFFSETTO:-0400
TZNAME:EDT
DTSTART:20230312T070000
END:DAYLIGHT
BEGIN:STANDARD
TZOFFSETFROM:-0400
TZOFFSETTO:-0500
TZNAME:EST
DTSTART:20231105T060000
END:STANDARD
BEGIN:DAYLIGHT
TZOFFSETFROM:-0500
TZOFFSETTO:-0400
TZNAME:EDT
DTSTART:20240310T070000
END:DAYLIGHT
BEGIN:STANDARD
TZOFFSETFROM:-0400
TZOFFSETTO:-0500
TZNAME:EST
DTSTART:20241103T060000
END:STANDARD
END:VTIMEZONE
BEGIN:VEVENT
DTSTART;TZID=America/Indiana/Indianapolis:20230304T123000
DTEND;TZID=America/Indiana/Indianapolis:20230304T190000
DTSTAMP:20260423T191229
CREATED:20221009T140351Z
LAST-MODIFIED:20230211T132215Z
UID:3654-1677933000-1677956400@www.bsatroop390.org
SUMMARY:Spaghetti Dinner
DESCRIPTION:Parents and Scouts – Please sign up to work a shift
URL:https://www.bsatroop390.org/event/spaghetti-dinner-2/
LOCATION:OH
CATEGORIES:Spaghetti Dinner
END:VEVENT
END:VCALENDAR