BEGIN:VCALENDAR
VERSION:2.0
PRODID:-//Troops 390/7390 - ECPv6.15.20//NONSGML v1.0//EN
CALSCALE:GREGORIAN
METHOD:PUBLISH
X-ORIGINAL-URL:https://www.bsatroop390.org
X-WR-CALDESC:Events for Troops 390/7390
REFRESH-INTERVAL;VALUE=DURATION:PT1H
X-Robots-Tag:noindex
X-PUBLISHED-TTL:PT1H
BEGIN:VTIMEZONE
TZID:America/Indiana/Indianapolis
BEGIN:DAYLIGHT
TZOFFSETFROM:-0500
TZOFFSETTO:-0400
TZNAME:EDT
DTSTART:20240310T070000
END:DAYLIGHT
BEGIN:STANDARD
TZOFFSETFROM:-0400
TZOFFSETTO:-0500
TZNAME:EST
DTSTART:20241103T060000
END:STANDARD
BEGIN:DAYLIGHT
TZOFFSETFROM:-0500
TZOFFSETTO:-0400
TZNAME:EDT
DTSTART:20250309T070000
END:DAYLIGHT
BEGIN:STANDARD
TZOFFSETFROM:-0400
TZOFFSETTO:-0500
TZNAME:EST
DTSTART:20251102T060000
END:STANDARD
BEGIN:DAYLIGHT
TZOFFSETFROM:-0500
TZOFFSETTO:-0400
TZNAME:EDT
DTSTART:20260308T070000
END:DAYLIGHT
BEGIN:STANDARD
TZOFFSETFROM:-0400
TZOFFSETTO:-0500
TZNAME:EST
DTSTART:20261101T060000
END:STANDARD
END:VTIMEZONE
BEGIN:VEVENT
DTSTART;TZID=America/Indiana/Indianapolis:20250902T180000
DTEND;TZID=America/Indiana/Indianapolis:20250902T190000
DTSTAMP:20260420T032920
CREATED:20250816T182916Z
LAST-MODIFIED:20250816T182916Z
UID:6138-1756836000-1756839600@www.bsatroop390.org
SUMMARY:PLC
DESCRIPTION:
URL:https://www.bsatroop390.org/event/plc-20/
LOCATION:Faith Lutheran Church\, 2726 W Market St\, Akron\, OH\, 44333\, United States
CATEGORIES:PLC Meeting
END:VEVENT
BEGIN:VEVENT
DTSTART;TZID=America/Indiana/Indianapolis:20250902T190000
DTEND;TZID=America/Indiana/Indianapolis:20250902T203000
DTSTAMP:20260420T032920
CREATED:20241107T192551Z
LAST-MODIFIED:20250712T114900Z
UID:5783-1756839600-1756845000@www.bsatroop390.org
SUMMARY:Scout Meeting
DESCRIPTION:BOR
URL:https://www.bsatroop390.org/event/scout-meeting-182/
LOCATION:Faith Lutheran Church\, 2726 W Market St\, Akron\, OH\, 44333\, United States
CATEGORIES:Weekly Meeting
END:VEVENT
BEGIN:VEVENT
DTSTART;TZID=America/Indiana/Indianapolis:20250905T180000
DTEND;TZID=America/Indiana/Indianapolis:20250907T093000
DTSTAMP:20260420T032920
CREATED:20250616T010323Z
LAST-MODIFIED:20250616T010323Z
UID:6051-1757095200-1757237400@www.bsatroop390.org
SUMMARY:Bike/Camp/Canoe
DESCRIPTION:
URL:https://www.bsatroop390.org/event/bike-camp-canoe-2/
LOCATION:OH
CATEGORIES:Weekend Camp
END:VEVENT
BEGIN:VEVENT
DTSTART;TZID=America/Indiana/Indianapolis:20250907T190000
DTEND;TZID=America/Indiana/Indianapolis:20250907T210000
DTSTAMP:20260420T032920
CREATED:20250816T182959Z
LAST-MODIFIED:20250816T182959Z
UID:6140-1757271600-1757278800@www.bsatroop390.org
SUMMARY:Troop Committee Meeting
DESCRIPTION:
URL:https://www.bsatroop390.org/event/troop-committee-meeting-24/
LOCATION:Faith Lutheran Church\, 2726 W Market St\, Akron\, OH\, 44333\, United States
CATEGORIES:Committee Meeting
END:VEVENT
BEGIN:VEVENT
DTSTART;TZID=America/Indiana/Indianapolis:20250909T190000
DTEND;TZID=America/Indiana/Indianapolis:20250909T203000
DTSTAMP:20260420T032920
CREATED:20241107T192622Z
LAST-MODIFIED:20241107T192622Z
UID:5785-1757444400-1757449800@www.bsatroop390.org
SUMMARY:Scout Meeting
DESCRIPTION:
URL:https://www.bsatroop390.org/event/scout-meeting-183/
LOCATION:Faith Lutheran Church\, 2726 W Market St\, Akron\, OH\, 44333\, United States
CATEGORIES:Weekly Meeting
END:VEVENT
BEGIN:VEVENT
DTSTART;TZID=America/Indiana/Indianapolis:20250916T190000
DTEND;TZID=America/Indiana/Indianapolis:20250916T203000
DTSTAMP:20260420T032920
CREATED:20241107T192657Z
LAST-MODIFIED:20241107T192706Z
UID:5787-1758049200-1758054600@www.bsatroop390.org
SUMMARY:Scout Meeting
DESCRIPTION:
URL:https://www.bsatroop390.org/event/scout-meeting-184/
LOCATION:Faith Lutheran Church\, 2726 W Market St\, Akron\, OH\, 44333\, United States
CATEGORIES:Weekly Meeting
END:VEVENT
BEGIN:VEVENT
DTSTART;TZID=America/Indiana/Indianapolis:20250916T193000
DTEND;TZID=America/Indiana/Indianapolis:20250916T203000
DTSTAMP:20260420T032920
CREATED:20250816T183214Z
LAST-MODIFIED:20250816T183244Z
UID:6144-1758051000-1758054600@www.bsatroop390.org
SUMMARY:Court of Honor
DESCRIPTION:
URL:https://www.bsatroop390.org/event/court-of-honor-2/
LOCATION:Faith Lutheran Church\, 2726 W Market St\, Akron\, OH\, 44333\, United States
CATEGORIES:Court of Honor
END:VEVENT
BEGIN:VEVENT
DTSTART;TZID=America/Indiana/Indianapolis:20250920T090000
DTEND;TZID=America/Indiana/Indianapolis:20250920T160000
DTSTAMP:20260420T032920
CREATED:20250914T203827Z
LAST-MODIFIED:20250914T203827Z
UID:6324-1758358800-1758384000@www.bsatroop390.org
SUMMARY:SCAT\, Manatoc – planting trees
DESCRIPTION:Plant Trees
URL:https://www.bsatroop390.org/event/scat-manatoc-planting-trees/
LOCATION:Camp Manatoc
CATEGORIES:Service Hours
END:VEVENT
BEGIN:VEVENT
DTSTART;TZID=America/Indiana/Indianapolis:20250920T090000
DTEND;TZID=America/Indiana/Indianapolis:20250920T160000
DTSTAMP:20260420T032920
CREATED:20250914T203945Z
LAST-MODIFIED:20250914T204058Z
UID:6326-1758358800-1758384000@www.bsatroop390.org
SUMMARY:MB Day\, Medina
DESCRIPTION:Council will be offering Citizenship in the Community\, Citizenship in the Nation and Citizenship in the World. Classes will be 9 AM-4 PM at Medina United Methodist Church\, 4747 Foote Road\, Medina\, 44256. Registration is required.
URL:https://www.bsatroop390.org/event/mb-day-medina/
LOCATION:Medina United Methodist Church\, 4747 Foote Rd\, Medina\, OH\, 44256
CATEGORIES:Merit Badge
END:VEVENT
BEGIN:VEVENT
DTSTART;TZID=America/Indiana/Indianapolis:20250923T190000
DTEND;TZID=America/Indiana/Indianapolis:20250923T203000
DTSTAMP:20260420T032920
CREATED:20241107T192745Z
LAST-MODIFIED:20241107T192745Z
UID:5789-1758654000-1758659400@www.bsatroop390.org
SUMMARY:Scout Meeting
DESCRIPTION:
URL:https://www.bsatroop390.org/event/scout-meeting-185/
LOCATION:Faith Lutheran Church\, 2726 W Market St\, Akron\, OH\, 44333\, United States
CATEGORIES:Weekly Meeting
END:VEVENT
BEGIN:VEVENT
DTSTART;TZID=America/Indiana/Indianapolis:20250927T090000
DTEND;TZID=America/Indiana/Indianapolis:20250927T140000
DTSTAMP:20260420T032920
CREATED:20250914T204240Z
LAST-MODIFIED:20250914T204334Z
UID:6329-1758963600-1758981600@www.bsatroop390.org
SUMMARY:MB Day\, Medina
DESCRIPTION:Council will be offering American Business\, Digital Tech\, Salesmanship\, and Surveying\, hosted by Canal District. Classes will be 9 AM-2 PM at Wedgewood United Methodist Church\, 2350 Wedgewood Drive\, Akron 44312. Register now.
URL:https://www.bsatroop390.org/event/mb-day/
LOCATION:Medina United Methodist Church\, 4747 Foote Rd\, Medina\, OH\, 44256
CATEGORIES:Merit Badge
END:VEVENT
BEGIN:VEVENT
DTSTART;TZID=America/Indiana/Indianapolis:20250930T190000
DTEND;TZID=America/Indiana/Indianapolis:20250930T203000
DTSTAMP:20260420T032920
CREATED:20241107T192823Z
LAST-MODIFIED:20250816T183306Z
UID:5791-1759258800-1759264200@www.bsatroop390.org
SUMMARY:Scout Meeting
DESCRIPTION:Troop Elections
URL:https://www.bsatroop390.org/event/scout-meeting-186/
LOCATION:OH
CATEGORIES:Weekly Meeting
END:VEVENT
END:VCALENDAR