BEGIN:VCALENDAR
VERSION:2.0
PRODID:-//Troops 390/7390 - ECPv6.15.20//NONSGML v1.0//EN
CALSCALE:GREGORIAN
METHOD:PUBLISH
X-WR-CALNAME:Troops 390/7390
X-ORIGINAL-URL:https://www.bsatroop390.org
X-WR-CALDESC:Events for Troops 390/7390
REFRESH-INTERVAL;VALUE=DURATION:PT1H
X-Robots-Tag:noindex
X-PUBLISHED-TTL:PT1H
BEGIN:VTIMEZONE
TZID:America/Indiana/Indianapolis
BEGIN:DAYLIGHT
TZOFFSETFROM:-0500
TZOFFSETTO:-0400
TZNAME:EDT
DTSTART:20240310T070000
END:DAYLIGHT
BEGIN:STANDARD
TZOFFSETFROM:-0400
TZOFFSETTO:-0500
TZNAME:EST
DTSTART:20241103T060000
END:STANDARD
BEGIN:DAYLIGHT
TZOFFSETFROM:-0500
TZOFFSETTO:-0400
TZNAME:EDT
DTSTART:20250309T070000
END:DAYLIGHT
BEGIN:STANDARD
TZOFFSETFROM:-0400
TZOFFSETTO:-0500
TZNAME:EST
DTSTART:20251102T060000
END:STANDARD
BEGIN:DAYLIGHT
TZOFFSETFROM:-0500
TZOFFSETTO:-0400
TZNAME:EDT
DTSTART:20260308T070000
END:DAYLIGHT
BEGIN:STANDARD
TZOFFSETFROM:-0400
TZOFFSETTO:-0500
TZNAME:EST
DTSTART:20261101T060000
END:STANDARD
END:VTIMEZONE
BEGIN:VEVENT
DTSTART;VALUE=DATE:20251004
DTEND;VALUE=DATE:20251006
DTSTAMP:20260420T044931
CREATED:20250816T183439Z
LAST-MODIFIED:20250816T183439Z
UID:6147-1759536000-1759708799@www.bsatroop390.org
SUMMARY:ISLT
DESCRIPTION:For newly elected youth leaders
URL:https://www.bsatroop390.org/event/islt/
LOCATION:OH
END:VEVENT
BEGIN:VEVENT
DTSTART;TZID=America/Indiana/Indianapolis:20251004T090000
DTEND;TZID=America/Indiana/Indianapolis:20251004T170000
DTSTAMP:20260420T044931
CREATED:20250914T204451Z
LAST-MODIFIED:20250914T204451Z
UID:6333-1759568400-1759597200@www.bsatroop390.org
SUMMARY:MB Day\, Stambaugh
DESCRIPTION:
URL:https://www.bsatroop390.org/event/mb-day-stambaugh/
LOCATION:Camp Stambaugh\, 3712 Leffingwell Rd\, Canfield\, OH\, 44406\, United States
CATEGORIES:Merit Badge
END:VEVENT
BEGIN:VEVENT
DTSTART;TZID=America/Indiana/Indianapolis:20251005T190000
DTEND;TZID=America/Indiana/Indianapolis:20251005T210000
DTSTAMP:20260420T044931
CREATED:20250712T115427Z
LAST-MODIFIED:20250712T115438Z
UID:6071-1759690800-1759698000@www.bsatroop390.org
SUMMARY:Troop Committee Meeting
DESCRIPTION:
URL:https://www.bsatroop390.org/event/troop-committee-meeting-21/
LOCATION:Faith Lutheran Church\, 2726 W Market St\, Akron\, OH\, 44333\, United States
CATEGORIES:Committee Meeting
END:VEVENT
BEGIN:VEVENT
DTSTART;TZID=America/Indiana/Indianapolis:20251007T180000
DTEND;TZID=America/Indiana/Indianapolis:20251007T190000
DTSTAMP:20260420T044931
CREATED:20250712T115342Z
LAST-MODIFIED:20250712T115342Z
UID:6069-1759860000-1759863600@www.bsatroop390.org
SUMMARY:PLC Meeting
DESCRIPTION:
URL:https://www.bsatroop390.org/event/plc-meeting-20/
LOCATION:Faith Lutheran Church\, 2726 W Market St\, Akron\, OH\, 44333\, United States
CATEGORIES:PLC Meeting
END:VEVENT
BEGIN:VEVENT
DTSTART;TZID=America/Indiana/Indianapolis:20251007T190000
DTEND;TZID=America/Indiana/Indianapolis:20251007T203000
DTSTAMP:20260420T044931
CREATED:20250712T115218Z
LAST-MODIFIED:20250712T115218Z
UID:6065-1759863600-1759869000@www.bsatroop390.org
SUMMARY:Scout Meeting
DESCRIPTION:
URL:https://www.bsatroop390.org/event/scout-meeting-187/
LOCATION:Faith Lutheran Church\, 2726 W Market St\, Akron\, OH\, 44333\, United States
CATEGORIES:Weekly Meeting
END:VEVENT
BEGIN:VEVENT
DTSTART;TZID=America/Indiana/Indianapolis:20251010T180000
DTEND;TZID=America/Indiana/Indianapolis:20251012T100000
DTSTAMP:20260420T044931
CREATED:20250712T115129Z
LAST-MODIFIED:20250712T115129Z
UID:6063-1760119200-1760263200@www.bsatroop390.org
SUMMARY:7 Ranges Campout
DESCRIPTION:
URL:https://www.bsatroop390.org/event/7-ranges-campout/
LOCATION:Seven Ranges\, 7070 Meter Road NE\, Kensington\, OH\, 44427\, United States
CATEGORIES:Weekend Camp
END:VEVENT
BEGIN:VEVENT
DTSTART;TZID=America/Indiana/Indianapolis:20251014T190000
DTEND;TZID=America/Indiana/Indianapolis:20251014T203000
DTSTAMP:20260420T044931
CREATED:20250712T115255Z
LAST-MODIFIED:20250712T115255Z
UID:6067-1760468400-1760473800@www.bsatroop390.org
SUMMARY:Scout Meeting
DESCRIPTION:
URL:https://www.bsatroop390.org/event/scout-meeting-188/
LOCATION:Faith Lutheran Church\, 2726 W Market St\, Akron\, OH\, 44333\, United States
CATEGORIES:Weekly Meeting
END:VEVENT
BEGIN:VEVENT
DTSTART;TZID=America/Indiana/Indianapolis:20251021T190000
DTEND;TZID=America/Indiana/Indianapolis:20251021T203000
DTSTAMP:20260420T044931
CREATED:20250712T115519Z
LAST-MODIFIED:20250816T183526Z
UID:6073-1761073200-1761078600@www.bsatroop390.org
SUMMARY:Troop Meeting
DESCRIPTION:AOL Open House
URL:https://www.bsatroop390.org/event/troop-meeting/
LOCATION:Faith Lutheran Church\, 2726 W Market St\, Akron\, OH\, 44333\, United States
CATEGORIES:Weekly Meeting
END:VEVENT
BEGIN:VEVENT
DTSTART;TZID=America/Indiana/Indianapolis:20251025T080000
DTEND;TZID=America/Indiana/Indianapolis:20251025T170000
DTSTAMP:20260420T044931
CREATED:20250712T155158Z
LAST-MODIFIED:20250914T204901Z
UID:6107-1761379200-1761411600@www.bsatroop390.org
SUMMARY:Merit Badge College
DESCRIPTION:Join the Great Trail Council at our innaugural Merit Badge University ~ Manatoc Merit Badge College (MMBC) \nScouts BSA members can attend and participate in two sessions (morning and afternoon). Scouts DO NOT need to participate in both sessions. \nEach Scout will need to bring a bagged lunch\, as lunch will not be provided. \nClass Session 1: 8:10am through 12 pm \nLunch Session: 12:10 am through 1:00 pm (On your own) \nClass Session 2: 1:10 pm through 5:00 pm \nClassroom locations will be provided in September\, as well as information on parking/ drop-offs. \nConfirmed Merit Badges Being Offered\nAmerican Business (2019) ~ Bugling (2020)~ Citizenship in Society (2025) ~ Public Speaking (2003) ~ Railroading (2022) ~ Veterinary Medicine (2006) ~ Cylcling (2025) ~ Safety (2024 version) ~ Emergency Preparedness (2025 version) ~ Exploration (2017 version) ~ Radio (2017 version) \nThere are still several Merit Badges we are waiting for confirmation. Merit Badges will be added once confirmed up until October 1st\, 2025
URL:https://www.bsatroop390.org/event/merit-badge-college/
LOCATION:Camp Manatoc
CATEGORIES:Merit Badge
END:VEVENT
BEGIN:VEVENT
DTSTART;TZID=America/Indiana/Indianapolis:20251028T190000
DTEND;TZID=America/Indiana/Indianapolis:20251028T203000
DTSTAMP:20260420T044931
CREATED:20250712T115557Z
LAST-MODIFIED:20250712T115557Z
UID:6075-1761678000-1761683400@www.bsatroop390.org
SUMMARY:Troop Meeting
DESCRIPTION:
URL:https://www.bsatroop390.org/event/troop-meeting-2/
LOCATION:Faith Lutheran Church\, 2726 W Market St\, Akron\, OH\, 44333\, United States
CATEGORIES:Weekly Meeting
END:VEVENT
END:VCALENDAR